BEGIN:VCALENDAR
VERSION:2.0
PRODID:-//interkulturelles-bielefeld//DE
METHOD:PUBLISH
BEGIN:VEVENT
UID:20260424T085504Z-6516@ki-bielefeld.de
DTSTAMP:20260424T085504Z
DTSTART:20251103T000000
DTEND:20251108T000000
SUMMARY:„Woche für die Demokratie“ in der Stadtteilbibliothek Dornberg
DESCRIPTION:Der Freundeskreis der Stadtteilbibliothek Dornberg veranstaltet
  unter dem Motto „Woche für die Demokratie“ in Kooperation mit dem Fö
 rderprogramm der Stadt „Demokratisches Zusammenleben in Bielefeld“ eine
  vielseitige Veranstaltungsreihe.

Zum ausführlichen Programm gelangen S
 ie hier.

 
LOCATION:Stadtbibliothek Dornberg<br />
Werther Straße 436<br />
33619 B
 ielefeld
URL;VALUE=URI:https://ki-bielefeld.de/veranstaltungen/woche-fuer-die-demokr
 atie-in-der-stadtteilbibliothek-dornberg/
END:VEVENT
END:VCALENDAR