BEGIN:VCALENDAR
VERSION:2.0
PRODID:-//interkulturelles-bielefeld//DE
METHOD:PUBLISH
BEGIN:VEVENT
UID:20260422T104520Z-6793@ki-bielefeld.de
DTSTAMP:20260422T104520Z
DTSTART:20260414T190000
DTEND:20260414T210000
SUMMARY:Wider die Entmenschlichung // Kirchenasyl: Bett, Brot, Beziehungen
DESCRIPTION:Die aktuellen gesellschaftlichen Auseinandersetzungen um das Th
 ema Migration und Flucht fÃ¼hren zu einer AushÃ¶hlung von Grundrechten.
â€
 ¢ Wie fordert diese Tendenz der Entmenschlichung Christ*innen heraus?
â€¢ 
 Welche Auswirkungen zeigen sich beim Einsatz fÃ¼r von Abschiebung bedrohte 
 GeflÃ¼chtete und welche sind darÃ¼ber hinaus zu erwarten?
â€¢ Welche Frage
 n der eigenen Relevanz als Kirche und der authentischen Nachfolge werden au
 fgeworfen?
â€¢ Welche Perspektiven kÃ¶nnen daraus fÃ¼r freiwillig Engagie.
 ..
LOCATION:Haus der Kirche<br />
Markgrafenstr. 7<br />
33602 Bielefeld
URL;VALUE=URI:https://ki-bielefeld.de/veranstaltungen/wider-die-entmenschli
 chung-kirchenasyl-bett-brot-beziehungen/
END:VEVENT
END:VCALENDAR