BEGIN:VCALENDAR
VERSION:2.0
PRODID:-//interkulturelles-bielefeld//DE
METHOD:PUBLISH
BEGIN:VEVENT
UID:20260424T090334Z-7237@ki-bielefeld.de
DTSTAMP:20260424T090334Z
DTSTART:20260424T050000
DTEND:20260424T210000
SUMMARY:Sabar Dance Workshop und Live Sabar mit Afrikan Roots Percussion
DESCRIPTION:Sabar Dance Workshop & Senegalese Kulturabend im Rahmen der Ras
 sismuswoche
Am 24. April ab 17:00 Uhr laden wir herzlich zu einem besonder
 en kulturellen Erlebnis ein. Im Rahmen der Rassismuswochen erwartet die Bes
 ucher:innen ein lebendiger Einblick in die vielfältige Kultur des Senegals
 .
Freuen Sie sich auf einen mitreißenden Sabar Dance Workshop, begleitet 
 von Live-Percussion und Tanz mit African Roots Percussion. Die Veranstaltun
 g bietet authentische Eindrücke traditioneller westafrika...
LOCATION:IBZ Friedenshaus e.V.<br />
Teutoburger Str. 106<br />
33607 Bie
 lefeld
URL;VALUE=URI:https://ki-bielefeld.de/veranstaltungen/sabar-dance-workshop-
 und-live-sabar-mit-afrikan-roots-percussion/
END:VEVENT
END:VCALENDAR