BEGIN:VCALENDAR
VERSION:2.0
PRODID:-//interkulturelles-bielefeld//DE
METHOD:PUBLISH
BEGIN:VEVENT
UID:20260422T103658Z-5276@ki-bielefeld.de
DTSTAMP:20260422T103658Z
DTSTART:20250309T110000
DTEND:
SUMMARY:Matinée mit “Wunderschön”
DESCRIPTION:Mit dem Episodenfilm "Wunderschön" nimmt uns die Regisseurin K
 aroline Herfurth auf eine berührende Reise in die Seelenlandschaft von Fra
 uen und geht der Frage nach, wann wir uns wirklich schön fühlen. Sie zeig
 t fünf Frauen, die in unterschiedlichen Lebensphasen mit ihrer Selbstwahrn
 ehmung ringen.
anschließend vegetarisches Buffet und Musik von "White Cof
 fee"



Veranstalter*in
FrauenFilmTage Bielefeld


Kontakt
info@fr
 auenfilmtagebielefeld.de


Eintritt
Ticket 10 Euro (8 Euro er...
LOCATION:VHS Bielefeld, Murnausaal
URL;VALUE=URI:https://ki-bielefeld.de/veranstaltungen/matinee-mit-wundersch
 oen/
END:VEVENT
END:VCALENDAR