BEGIN:VCALENDAR
VERSION:2.0
PRODID:-//interkulturelles-bielefeld//DE
METHOD:PUBLISH
BEGIN:VEVENT
UID:20260422T044150Z-6773@ki-bielefeld.de
DTSTAMP:20260422T044150Z
DTSTART:20260422T150000
DTEND:20260422T180000
SUMMARY:Kulturfest
DESCRIPTION:Gemeinsam Spielen, Essen und Tanzen schaffen auf einfache und e
 ntspannte Weise Kontakte und neue Erfahrungen. Gemeinsamkeiten und Verbinde
 ndendes werden deutlich und vertieft.
Persönliche Begegnungen erweitern d
 as Wissen und bauen so Vorurteile ab. Ein wichtiger Schritt gegen Rassismus
  und Diskriminierung.
Lasst uns einen lebendigen Nachmittag mit viel Spaß
  verbringen!



Veranstalter*in
Gesellschaft Für Sozialarbeit e.V., B
 ereich Lebensräume


Kontakt
regine.schrader@gfs-bielefeld...
LOCATION:Gesellschaft für Sozialarbeit Bielefeld e. V. <br />
Kontaktstel
 le Herforder Str. 28<br />
33602 Bielefeld
URL;VALUE=URI:https://ki-bielefeld.de/veranstaltungen/kulturfest/
END:VEVENT
END:VCALENDAR