BEGIN:VCALENDAR
VERSION:2.0
PRODID:-//interkulturelles-bielefeld//DE
METHOD:PUBLISH
BEGIN:VEVENT
UID:20260424T085207Z-7161@ki-bielefeld.de
DTSTAMP:20260424T085207Z
DTSTART:20260427T150000
DTEND:20260427T160000
SUMMARY:Kochen über den Tellerrand- die Initiative für interkulturelle Be
 gegnung stellt sich vor
DESCRIPTION:Zwei Frauen, Petra Schmidke und Songül Yilmaz, die unterschied
 licher nicht sein können, berichten an diesem Nachmittag von ihrer Passion
 , im Verein „Über den Tellerrand“ mitzuarbeiten. Petra, ehemalige Lehr
 erin für Englisch und Chemie am Gymnasium, kocht sehr gerne, ist kulturell
  vielseitig interessiert, liest, macht Sport und reist gerne in ihrem Campe
 r, meist nach Italien. Songül arbeitet als Laborantin in einem Chemieunter
 nehmen, kocht nicht gerne, liebt aber Menschen, egal aus welchem Lan...
LOCATION:Kirchweg 10<br />
33647 Bielefeld
URL;VALUE=URI:https://ki-bielefeld.de/veranstaltungen/kochen-ueber-den-tell
 errand-die-initiative-fuer-interkulturelle-begegnung-stellt-sich-vor/
END:VEVENT
END:VCALENDAR