BEGIN:VCALENDAR
VERSION:2.0
PRODID:-//interkulturelles-bielefeld//DE
METHOD:PUBLISH
BEGIN:VEVENT
UID:20260422T045729Z-6937@ki-bielefeld.de
DTSTAMP:20260422T045729Z
DTSTART:20260427T180000
DTEND:20260427T203000
SUMMARY:Kinoabend mit anschließendem Gespräch: Das leere Grab
DESCRIPTION:Der Film "Das leere Grab" begleitet zwei Familien aus Tansania 
 auf der Suche nach ihren Vorfahren. Ihre Spurensuche führt sie nach Deutsc
 hland, wo noch immer Zehntausende menschliche Gebeine aus den ehemaligen de
 utschen Kolonien lagern. In ihrem Film erzählt das deutsch-tansanische Reg
 ieduo von den Traumata, die die deutsche Kolonialherrschaft in tansanischen
  Communitys bis heute hinterlassen hat – und von der Stärke und Selbster
 mächtigung der Hinterbliebenen, die sich hartnäckig für vollstän...
LOCATION:Lichtwerk Bielefeld<br />
Ravensberger Park 7<br />
33607 Bielef
 eld
URL;VALUE=URI:https://ki-bielefeld.de/veranstaltungen/kinoabend-mit-anschli
 essendem-gespraech-das-leere-grab/
END:VEVENT
END:VCALENDAR