BEGIN:VCALENDAR
VERSION:2.0
PRODID:-//interkulturelles-bielefeld//DE
METHOD:PUBLISH
BEGIN:VEVENT
UID:20260421T162721Z-5188@ki-bielefeld.de
DTSTAMP:20260421T162721Z
DTSTART:20251030T090000
DTEND:20251030T160000
SUMMARY:Handlungsmöglichkeiten im Umgang mit menschenverachtenden, demokra
 tiefeindlichen und rechtsorientierten Phänomenen an Schule
DESCRIPTION:Soziale Medien sind voll mit Desinformation, rechten Inhalten, 
 Hass und Hetze. Immer mehr Jugendlichen stimmen menschenfeindlichen Aussage
 n zu und wählen demokratiefeindliche Parteien. Das kommt auch in Schule an
 . Rassistische Sprüche sind „normale“ Meinung unter einigen Schüler*i
 nnen, Haltung-zeigende Lehrer*innen werden mitunter angefeindet, in den Kla
 ssenchats tauchen rechtsextreme Posts auf. Was dagegen tun?

Das Erkennen
  von menschenverachtenden, antidemokratischen oder rechtsorientier...
LOCATION:Stadt Bielefeld<br />
Altes Rathaus<br />
Nowgorod-Raum (EG)<br 
 />
Niederwall 27<br />
33602 Bielefeld
URL;VALUE=URI:https://ki-bielefeld.de/veranstaltungen/handlungsmoeglichkeit
 en-im-umgang-mit-menschenverachtenden-demokratiefeindlichen-und-rechtsorien
 tierten-phaenomenen-an-schule/
END:VEVENT
END:VCALENDAR