BEGIN:VCALENDAR
VERSION:2.0
PRODID:-//interkulturelles-bielefeld//DE
METHOD:PUBLISH
BEGIN:VEVENT
UID:20260422T104602Z-5344@ki-bielefeld.de
DTSTAMP:20260422T104602Z
DTSTART:20250401T153000
DTEND:20250401T173000
SUMMARY:Empowerment-Kids: Eine Spielgruppe für afrodeutsche, afrodiasporis
 che und Schwarze Kinder
DESCRIPTION:Lebst Du in Bielefeld und Umgebung und hast Du Kinder im Alter 
 von 0 bis 6? Willst Du Deinem(en) Kind(ern) die Chance geben, sich spieleri
 sch für das vielfältige Leben hier zu sensibilisieren? Hast Du das Bedür
 fnis, Deine Kinder/dein Kind vor Ausgrenzung aufgrund ihres/seines Aussehen
 s und/oder Herkunftbezuges zu schützen? Dann schau doch einmal bei einer u
 nserer Spielgruppen vorbei. Es handelt sich um zwei diversitätsfördernde 
 und identitätsstärkende Schutzräume für Dein (e) Kleine(n), denn ...
LOCATION:Frachtstraße 9<br />
33602 Bielefeld
URL;VALUE=URI:https://ki-bielefeld.de/veranstaltungen/empowerment-kids-eine
 -spielgruppe-fuer-afrodeutsche-afrodiasporische-und-schwarze-kinder/
END:VEVENT
END:VCALENDAR