BEGIN:VCALENDAR
VERSION:2.0
PRODID:-//interkulturelles-bielefeld//DE
METHOD:PUBLISH
BEGIN:VEVENT
UID:20260422T102830Z-7017@ki-bielefeld.de
DTSTAMP:20260422T102830Z
DTSTART:20260312T093000
DTEND:20260312T153000
SUMMARY:Einführung in das lebendige Begegnungsformat Living Library
DESCRIPTION:Am Vormittag werden das Konzept der Living Library sowie deren 
 Hintergründe, Rahmenbedingungen und potenzielle Gesprächspartner:innen vo
 rgestellt. Ziel ist es, die Teilnehmenden darin zu befähigen, eine eigene 
 Living Library zu konzipieren und erfolgreich durchzuführen.
Am Nachmitta
 g wird das Konzept der Living Library erlebbar. In mehreren Runden können 
 die Teilnehmenden mit „lebendigen Büchern“ in den Austausch treten. Zi
 el ist es, neue Perspektiven zu gewinnen und durch die eigene Erfahru...
LOCATION:Gadderbaumer Str. 3<br />
33602 Bielefeld
URL;VALUE=URI:https://ki-bielefeld.de/veranstaltungen/einfuehrung-in-das-le
 bendige-begegnungsformat-living-library/
END:VEVENT
END:VCALENDAR