BEGIN:VCALENDAR
VERSION:2.0
PRODID:-//interkulturelles-bielefeld//DE
METHOD:PUBLISH
BEGIN:VEVENT
UID:20260424T090543Z-6853@ki-bielefeld.de
DTSTAMP:20260424T090543Z
DTSTART:20260304T181500
DTEND:20260429T194500
SUMMARY:Denken über Antisemitismus – Einführung in die Kritik zur Juden
 feindschaft
DESCRIPTION:Eine Reihe des Bündnisses gegen Antisemitismus, der Gesellscha
 ft für Christlich-Jüdische Zusammenarbeit, der Deutsch-Israelischen Gesel
 lschaft, der Jüdischen Kultusgemeinde und der VHS.

Die Reaktionen auf d
 en Überfall der Hamas auf Israel und die Tatsache, dass Juden in Deutschla
 nd nicht mehr sicher leben können, zeigen, dass das Ausmaß des Antisemiti
 smus immer noch erschreckend ist. Viele bedeutende Denkerinnen und Denker h
 aben über die Ursachen dieses Phänomens nachgedacht - mit aufsehen...
LOCATION:Volkshochschule Bielefeld<br />
Ravensberger Park 1<br />
33607 
 Bielefeld
URL;VALUE=URI:https://ki-bielefeld.de/veranstaltungen/denken-ueber-antisemi
 tismus-einfuehrung-in-die-kritik-zur-judenfeindschaft/
END:VEVENT
END:VCALENDAR