BEGIN:VCALENDAR
VERSION:2.0
PRODID:-//interkulturelles-bielefeld//DE
METHOD:PUBLISH
BEGIN:VEVENT
UID:20260422T104409Z-4301@ki-bielefeld.de
DTSTAMP:20260422T104409Z
DTSTART:20250401T170000
DTEND:20250401T183000
SUMMARY:Austausch & Spieletreff Demokratiebildung
DESCRIPTION:In den letzten Jahren gab es einen kleinen Boom an Materialien 
 für die demokratische bzw. politische Bildung. Neben klassischer Wissensve
 rmittlung gibt es immer mehr Spiele, die durch Erfahrungslernen soziale Gru
 ndkompetenzen oder demokratische Werte trainieren (sollen). Für einzelne P
 ersonen ist es schwierig, einen Überblick über die Vielzahl spannender ne
 uer Veröffentlichungen zu behalten. Oft bestehen auch Hemmnisse, neues, un
 bekanntes Material in Arbeitskontexten auszuprobieren.

In die...
LOCATION:Grüner Würfel<br />
Kesselbrink 2<br />
33602 Bielefeld<br />
 

URL;VALUE=URI:https://ki-bielefeld.de/veranstaltungen/austausch-spieletreff
 -demokratiebildung-2/
END:VEVENT
END:VCALENDAR