BEGIN:VCALENDAR
VERSION:2.0
PRODID:-//interkulturelles-bielefeld//DE
METHOD:PUBLISH
BEGIN:VEVENT
UID:20260422T044133Z-7279@ki-bielefeld.de
DTSTAMP:20260422T044133Z
DTSTART:20260425T180000
DTEND:
SUMMARY:Ausstellung “Jung & Ehrlich”
DESCRIPTION:Im Rahmen der Aktionswochen gegen Rassismus haben sich Jugendli
 che unserer Stadt künstlerisch mit dem Thema Diskriminierung auseinanderge
 setzt. Daraus entstanden ist eine kraftvolle Ausstellung, die die Lebenswir
 klichkeiten unterschiedlicher junger Künstler*innen zum Ausdruck bringt.

 Die Räumlichkeiten des AWO Kreisverbands verwandeln sich für zwei Wochen 
 zum öffentlichen Schauplatz dieser Kunst. Die Eröffnung findet am Samstag
 , 25.04., ab 18 Uhr statt.



Veranstalter*in
AWO Kreisverba...
LOCATION:Mercatorstraße 10<br />
33602 Bielefeld
URL;VALUE=URI:https://ki-bielefeld.de/veranstaltungen/ausstellung-jung-ehrl
 ich/
END:VEVENT
END:VCALENDAR