BEGIN:VCALENDAR
VERSION:2.0
PRODID:-//interkulturelles-bielefeld//DE
METHOD:PUBLISH
BEGIN:VEVENT
UID:20260422T104118Z-7032@ki-bielefeld.de
DTSTAMP:20260422T104118Z
DTSTART:20260325T150000
DTEND:20260325T170000
SUMMARY:Antirassismus Training – Grundlagen
DESCRIPTION:Was ist Rassismus? Grundbegriffe der Antirassismusarbeit. Gesch
 ichte, Praktiken und institutionelle Strukturen des Rassismus in der Bundes
 republik Deutschland.



Veranstalter*in
Bielefelder Netzwerk der Migr
 antenorganisationen e. V.


Kontakt
giesbrecht@bi-nemo.de


Zielgrup
 pe
Senior*innen 60+


Eintrittskosten
frei


Barrierefreiheit
Roll
 stuhlgeeigneter Zugang (Rampe/Fahrstuhl, wenn erforderlich), Geschlechtsneu
 trale Toiletten, Rollstuhlgeeignete Toiletten, Einfache Spr...
LOCATION:Stadtteilzentrum in Oberlohmannshof<br />
Delphin Str. 1<br />
3
 3739 Bielefeld
URL;VALUE=URI:https://ki-bielefeld.de/veranstaltungen/antirassismus-trainin
 g-grundlagen/
END:VEVENT
END:VCALENDAR