BEGIN:VCALENDAR
VERSION:2.0
PRODID:-//interkulturelles-bielefeld//DE
METHOD:PUBLISH
BEGIN:VEVENT
UID:20260424T090910Z-5035@ki-bielefeld.de
DTSTAMP:20260424T090910Z
DTSTART:20250407T180000
DTEND:20250407T200000
SUMMARY:Antikurdischer Rassismus in Deutschland
DESCRIPTION:Über einen Impulsvortrag, der anhand vieler Beispiele über an
 tikurdischen Rassismus in Deutschland aufklärt, soll eine Diskussion über
  passende Präventionsmaßnahmen stattfinden. Der Vortrag liefert aktuelle 
 Zahlen, Daten und Fakten zu Geschichte und Gegenwart dieser gesellschaftlic
 h oftmals unterschätzten Realität für viele kurdische Menschen in Deutsc
 hland. Das Publikum kann durch eigene Ideen und Erfahrungen an der Veransta
 ltung partizipieren.



Veranstalter*in
Initiative Frieden und ...
LOCATION:Grüner Würfel<br />
Kesselbrink 2<br />
33602 Bielefeld
URL;VALUE=URI:https://ki-bielefeld.de/veranstaltungen/antikurdischer-rassis
 mus-in-deutschland/
END:VEVENT
END:VCALENDAR